BEGIN:VCALENDAR
VERSION:2.0
PRODID:icalendar-ruby
CALSCALE:GREGORIAN
METHOD:PUBLISH
BEGIN:VEVENT
DTSTAMP:20260425T220109Z
UID:5-409689@cornerstonenorfolk.org
DTSTART:20260809T173000Z
DTEND:20260809T183000Z
CLASS:PUBLIC
CREATED:20260424T064432
DESCRIPTION:Sunday Worship
LAST-MODIFIED:20260424T064432
LOCATION:
SUMMARY:Sunday Worship
URL;VALUE=URI:https://www.cornerstonenorfolk.org/events/sunday-worship/2026
 -08-09
END:VEVENT
END:VCALENDAR
