BEGIN:VCALENDAR
VERSION:2.0
PRODID:icalendar-ruby
CALSCALE:GREGORIAN
METHOD:PUBLISH
BEGIN:VEVENT
DTSTAMP:20260425T160052Z
UID:5-409685@cornerstonenorfolk.org
DTSTART:20260712T173000Z
DTEND:20260712T183000Z
CLASS:PUBLIC
CREATED:20260424T064432
DESCRIPTION:Sunday Worship
LAST-MODIFIED:20260424T064432
LOCATION:
SUMMARY:Sunday Worship
URL;VALUE=URI:https://www.cornerstonenorfolk.org/events/sunday-worship/2026
 -07-12
END:VEVENT
END:VCALENDAR
